BEGIN:VCALENDAR
VERSION:2.0
PRODID:-//Kulvio Event Calendar//kulvio.de//
CALSCALE:GREGORIAN
METHOD:PUBLISH
BEGIN:VEVENT
SUMMARY:Film: 22 Bahnen — Programmkino KiKuRa Raunheim
DTSTART:20260509T180000Z
DTEND:20260509T190000Z
DTSTAMP:20260421T042312Z
UID:kulvio-event-2992@kulvio.de
CATEGORIES:Kino
CREATED:20260419T161510Z
DESCRIPTION:Das Programmkino KiKuRa in Raunheim zeigt den Film 22 Bahnen\,
  ein deutsches Drama über eine junge Schwimmerin. Der Kino- und Kulturver
 ein Raunheim bietet regelmäßig ausgewählte Filme abseits des Mainstream
 s in intimer Kinoatmosphäre. Beginn ist um 20 Uhr.
GEO:50.008869;8.450693
LAST-MODIFIED:20260419T163353Z
LOCATION:KiKuRa Raunheim e.V.\, Am Stadtzentrum 2a\, 65479\, Raunheim
STATUS:CONFIRMED
URL:https://kulvio.de/event/2992
END:VEVENT
END:VCALENDAR
