BEGIN:VCALENDAR
VERSION:2.0
PRODID:-//Kulvio Event Calendar//kulvio.de//
CALSCALE:GREGORIAN
METHOD:PUBLISH
BEGIN:VEVENT
SUMMARY:Film: Der Salzpfad — Programmkino KiKuRa Raunheim
DTSTART:20260523T180000Z
DTEND:20260523T190000Z
DTSTAMP:20260421T042427Z
UID:kulvio-event-2993@kulvio.de
CATEGORIES:Kino
CREATED:20260419T161510Z
DESCRIPTION:Der Film Der Salzpfad läuft im Programmkino KiKuRa in Raunhei
 m. Die Verfilmung erzählt die Geschichte eines Paares\, das den South Wes
 t Coast Path in England erwandert. Das KiKuRa zeigt regelmäßig handverle
 sene Filme in entspannter Atmosphäre. Beginn ist um 20 Uhr.
GEO:50.008869;8.450693
LAST-MODIFIED:20260419T163353Z
LOCATION:KiKuRa Raunheim e.V.\, Am Stadtzentrum 2a\, 65479\, Raunheim
STATUS:CONFIRMED
URL:https://kulvio.de/event/2993
END:VEVENT
END:VCALENDAR
