BEGIN:VCALENDAR
VERSION:2.0
PRODID:-//Kulvio Event Calendar//kulvio.de//
CALSCALE:GREGORIAN
METHOD:PUBLISH
BEGIN:VEVENT
SUMMARY:Film: The Life of Chuck — Programmkino KiKuRa Raunheim
DTSTART:20260606T180000Z
DTEND:20260606T190000Z
DTSTAMP:20260421T042811Z
UID:kulvio-event-2994@kulvio.de
CATEGORIES:Kino
CREATED:20260419T161510Z
DESCRIPTION:Das Programmkino KiKuRa in Raunheim zeigt The Life of Chuck\, 
 basierend auf einer Kurzgeschichte von Stephen King. Der Film erzählt das
  Leben eines Mannes in umgekehrter Reihenfolge und verbindet Drama mit fan
 tastischen Elementen. Beginn ist um 20 Uhr im KiKuRa am Stadtzentrum.
GEO:50.008869;8.450693
LAST-MODIFIED:20260419T163353Z
LOCATION:KiKuRa Raunheim e.V.\, Am Stadtzentrum 2a\, 65479\, Raunheim
STATUS:CONFIRMED
URL:https://kulvio.de/event/2994
END:VEVENT
END:VCALENDAR
