BEGIN:VCALENDAR
VERSION:2.0
PRODID:-//Kulvio Event Calendar//kulvio.de//
CALSCALE:GREGORIAN
METHOD:PUBLISH
BEGIN:VEVENT
SUMMARY:Raunheimer Weihnachtsmarkt — Freitag
DTSTART:20261211T153000Z
DTEND:20261211T190000Z
DTSTAMP:20260421T034512Z
UID:kulvio-event-2995@kulvio.de
CATEGORIES:Weihnachtsmarkt
CREATED:20260419T161510Z
DESCRIPTION:Der Raunheimer Weihnachtsmarkt eröffnet am dritten Adventswoc
 henende auf dem Rathausplatz. Vereine und Gruppen bieten an ihren Ständen
  kulinarische und kreative Erzeugnisse an\, begleitet von weihnachtlicher 
 Live-Musik. Die Krippe der katholischen Gemeinde St. Antonius von Padua un
 d ein Kinderkarussell ergänzen das Programm. Der Eintritt ist frei.
GEO:50.00853;8.450515
LAST-MODIFIED:20260419T163353Z
LOCATION:Rathausplatz\, 65479\, Raunheim
STATUS:CONFIRMED
URL:https://kulvio.de/event/2995
END:VEVENT
END:VCALENDAR
