BEGIN:VCALENDAR
VERSION:2.0
PRODID:-//Kulvio Event Calendar//kulvio.de//
CALSCALE:GREGORIAN
METHOD:PUBLISH
BEGIN:VEVENT
SUMMARY:Raunheimer Weihnachtsmarkt — Samstag
DTSTART:20261212T153000Z
DTEND:20261212T190000Z
DTSTAMP:20260421T042429Z
UID:kulvio-event-2996@kulvio.de
CATEGORIES:Weihnachtsmarkt
CREATED:20260419T161510Z
DESCRIPTION:Am Samstag lädt der Raunheimer Weihnachtsmarkt auf dem Rathau
 splatz zum vorweihnachtlichen Bummeln ein. Neben den Marktständen der Ver
 eine sorgt Live-Musik für festliche Atmosphäre. Am Abend besucht der Nik
 olaus den Markt und verteilt kleine Geschenke an die Kinder. Der Eintritt 
 ist frei.
GEO:50.00853;8.450515
LAST-MODIFIED:20260419T163353Z
LOCATION:Rathausplatz\, 65479\, Raunheim
STATUS:CONFIRMED
URL:https://kulvio.de/event/2996
END:VEVENT
END:VCALENDAR
