BEGIN:VCALENDAR
VERSION:2.0
PRODID:-//Kulvio Event Calendar//kulvio.de//
CALSCALE:GREGORIAN
METHOD:PUBLISH
BEGIN:VEVENT
SUMMARY:Raunheimer Weihnachtsmarkt — Sonntag
DTSTART:20261213T153000Z
DTEND:20261213T190000Z
DTSTAMP:20260421T042010Z
UID:kulvio-event-2997@kulvio.de
CATEGORIES:Weihnachtsmarkt
CREATED:20260419T161510Z
DESCRIPTION:Am Sonntag klingt der Raunheimer Weihnachtsmarkt auf dem Ratha
 usplatz mit einem letzten Adventstag aus. Die Marktbuden bieten noch einma
 l ihre weihnachtlichen Spezialitäten an und die Live-Musik begleitet den 
 Nachmittag. Der Weihnachtsmarkt findet traditionell am dritten Adventswoch
 enende statt.
GEO:50.00853;8.450515
LAST-MODIFIED:20260419T163353Z
LOCATION:Rathausplatz\, 65479\, Raunheim
STATUS:CONFIRMED
URL:https://kulvio.de/event/2997
END:VEVENT
END:VCALENDAR
