BEGIN:VCALENDAR
VERSION:2.0
PRODID:-//Kulvio Event Calendar//kulvio.de//
CALSCALE:GREGORIAN
METHOD:PUBLISH
BEGIN:VEVENT
SUMMARY:Andy Borg: Schlager und Spaß — Stadthalle Friedberg
DTSTART:20260428T160000Z
DTEND:20260428T170000Z
DTSTAMP:20260421T042307Z
UID:kulvio-event-2998@kulvio.de
CATEGORIES:Konzert,Show
CREATED:20260419T161520Z
DESCRIPTION:Der österreichische Schlagerstar Andy Borg gastiert mit seine
 m Programm Schlager und Spaß mit Andy Borg und Gästen in der Stadthalle 
 Friedberg. Der Abend bietet eine Mischung aus bekannten Schlagerhits und h
 umorvollen Einlagen in der Georg-August-Zinn-Halle am Seebach. Andy Borg g
 ehört seit Jahrzehnten zu den beliebtesten deutschsprachigen Schlagerkün
 stlern. Die Veranstaltung beginnt um 18 Uhr.
GEO:50.334489;8.745469
LAST-MODIFIED:20260419T163353Z
LOCATION:Stadthalle Friedberg\, Am Seebach 2\, 61169\, Friedberg (Hessen)
STATUS:CONFIRMED
URL:https://kulvio.de/event/2998
END:VEVENT
END:VCALENDAR
