BEGIN:VCALENDAR
VERSION:2.0
PRODID:-//Kulvio Event Calendar//kulvio.de//
CALSCALE:GREGORIAN
METHOD:PUBLISH
BEGIN:VEVENT
SUMMARY:Siggi Schwarz und Andreas Kümmert live in der Stadthalle Friedber
 g
DTSTART:20260502T180000Z
DTEND:20260502T190000Z
DTSTAMP:20260421T042124Z
UID:kulvio-event-2999@kulvio.de
CATEGORIES:Konzert
CREATED:20260419T161520Z
DESCRIPTION:Der Gitarrist Siggi Schwarz und Sänger Andreas Kümmert trete
 n gemeinsam mit Band in der Stadthalle Friedberg auf. Kümmert wurde durch
  seinen Sieg bei The Voice of Germany bekannt und beeindruckt mit seiner k
 raftvollen Stimme. In Kombination mit dem virtuosen Gitarrenspiel von Sigg
 i Schwarz erwartet die Besucher ein Abend voller Blues und Rock. Tickets k
 osten 29\,50 Euro.
GEO:50.334489;8.745469
LAST-MODIFIED:20260419T163353Z
LOCATION:Stadthalle Friedberg\, Am Seebach 2\, 61169\, Friedberg (Hessen)
STATUS:CONFIRMED
URL:https://kulvio.de/event/2999
END:VEVENT
END:VCALENDAR
