BEGIN:VCALENDAR
VERSION:2.0
PRODID:-//Kulvio Event Calendar//kulvio.de//
CALSCALE:GREGORIAN
METHOD:PUBLISH
BEGIN:VEVENT
SUMMARY:Ulan und Bator: Undsinn — Theater Altes Hallenbad Friedberg
DTSTART:20260516T173000Z
DTEND:20260516T183000Z
DTSTAMP:20260421T041937Z
UID:kulvio-event-3000@kulvio.de
CATEGORIES:Comedy
CREATED:20260419T161520Z
DESCRIPTION:Das Comedy-Duo Ulan und Bator präsentiert sein Programm Undsi
 nn im Theater Altes Hallenbad in Friedberg. Die beiden Künstler verbinden
  absurden Humor mit akrobatischen Einlagen und musikalischen Elementen. Da
 s Alte Hallenbad in der Haagstraße ist eine der profiliertesten Kleinkuns
 tbühnen der Wetterau. Tickets kosten 24 Euro\, ermäßigt 15 Euro.
GEO:50.335785;8.756658
LAST-MODIFIED:20260419T163353Z
LOCATION:Theater Altes Hallenbad\, Haagstraße 29\, 61169\, Friedberg (Hes
 sen)
STATUS:CONFIRMED
URL:https://kulvio.de/event/3000
END:VEVENT
END:VCALENDAR
