BEGIN:VCALENDAR
VERSION:2.0
PRODID:-//Kulvio Event Calendar//kulvio.de//
CALSCALE:GREGORIAN
METHOD:PUBLISH
BEGIN:VEVENT
SUMMARY:Pfingstmarkt Friedberg
DTSTART:20260517T080000Z
DTEND:20260517T160000Z
DTSTAMP:20260421T035541Z
UID:kulvio-event-3001@kulvio.de
CATEGORIES:Saisonmarkt
CREATED:20260419T161520Z
DESCRIPTION:Der Friedberger Pfingstmarkt lockt am verkaufsoffenen Sonntag 
 vor Pfingsten in die Altstadt. Händler und Kunsthandwerker bieten ihre Wa
 ren von 10 bis 18 Uhr an und die Geschäfte in der Innenstadt öffnen von 
 12 bis 17 Uhr. Der Jahrmarkt gehört zu den vier großen traditionellen M
 ärkten der Kreisstadt. Der Eintritt ist frei.
GEO:50.328272;8.747636
LAST-MODIFIED:20260419T163353Z
LOCATION:Altstadt\, 61169\, Friedberg (Hessen)
STATUS:CONFIRMED
URL:https://kulvio.de/event/3001
END:VEVENT
END:VCALENDAR
