BEGIN:VCALENDAR
VERSION:2.0
PRODID:-//Kulvio Event Calendar//kulvio.de//
CALSCALE:GREGORIAN
METHOD:PUBLISH
BEGIN:VEVENT
SUMMARY:Esther Hock: Chansonabend im Theater Altes Hallenbad
DTSTART:20260517T160000Z
DTEND:20260517T170000Z
DTSTAMP:20260421T042004Z
UID:kulvio-event-3002@kulvio.de
CATEGORIES:Konzert
CREATED:20260419T161520Z
DESCRIPTION:Die Sängerin Esther Hock lädt zu einem Chansonabend im Theat
 er Altes Hallenbad in Friedberg ein. In der intimen Atmosphäre des ehemal
 igen Hallenbads in der Haagstraße präsentiert Hock Chansons und Lieder a
 uf Deutsch und Französisch. Der Abend beginnt um 18 Uhr und bietet ein mu
 sikalisches Erlebnis abseits des Mainstreams. Tickets kosten 21 Euro\, erm
 äßigt 15 Euro.
GEO:50.335785;8.756658
LAST-MODIFIED:20260419T163353Z
LOCATION:Theater Altes Hallenbad\, Haagstraße 29\, 61169\, Friedberg (Hes
 sen)
STATUS:CONFIRMED
URL:https://kulvio.de/event/3002
END:VEVENT
END:VCALENDAR
