BEGIN:VCALENDAR
VERSION:2.0
PRODID:-//Kulvio Event Calendar//kulvio.de//
CALSCALE:GREGORIAN
METHOD:PUBLISH
BEGIN:VEVENT
SUMMARY:LaLeLuja — 30 Jahre-Jubiläumstour im Theater Altes Hallenbad
DTSTART:20260530T173000Z
DTEND:20260530T183000Z
DTSTAMP:20260421T041938Z
UID:kulvio-event-3003@kulvio.de
CATEGORIES:Show,Comedy
CREATED:20260419T161520Z
DESCRIPTION:Das A-cappella-Ensemble LaLeLuja feiert sein 30-jähriges Büh
 nenjubiläum mit einer Tour und macht Station im Theater Altes Hallenbad i
 n Friedberg. Die Gruppe verbindet mehrstimmigen Gesang mit Comedy und Show
 einlagen. Die Jubiläumsshow beginnt um 19:30 Uhr in der Haagstraße. Tick
 ets kosten 27 Euro\, ermäßigt 15 Euro.
GEO:50.335785;8.756658
LAST-MODIFIED:20260419T163353Z
LOCATION:Theater Altes Hallenbad\, Haagstraße 29\, 61169\, Friedberg (Hes
 sen)
STATUS:CONFIRMED
URL:https://kulvio.de/event/3003
END:VEVENT
END:VCALENDAR
