BEGIN:VCALENDAR
VERSION:2.0
PRODID:-//Kulvio Event Calendar//kulvio.de//
CALSCALE:GREGORIAN
METHOD:PUBLISH
BEGIN:VEVENT
SUMMARY:Frühjahrskonzert der Stadtkapelle Friedberg
DTSTART:20260530T180000Z
DTEND:20260530T190000Z
DTSTAMP:20260421T042804Z
UID:kulvio-event-3004@kulvio.de
CATEGORIES:Konzert
CREATED:20260419T161520Z
DESCRIPTION:Die Stadtkapelle Friedberg lädt zu ihrem traditionellen Früh
 jahrskonzert in die Stadthalle am Seebach ein. Das Blasorchester präsenti
 ert ein abwechslungsreiches Programm aus klassischen und modernen Stücken
 . Das Konzert beginnt um 20 Uhr und gehört zu den musikalischen Höhepunk
 ten des Friedberger Vereinslebens. Tickets sind ab 10 Euro erhältlich.
GEO:50.334489;8.745469
LAST-MODIFIED:20260419T163353Z
LOCATION:Stadthalle Friedberg\, Am Seebach 2\, 61169\, Friedberg (Hessen)
STATUS:CONFIRMED
URL:https://kulvio.de/event/3004
END:VEVENT
END:VCALENDAR
