BEGIN:VCALENDAR
VERSION:2.0
PRODID:-//Kulvio Event Calendar//kulvio.de//
CALSCALE:GREGORIAN
METHOD:PUBLISH
BEGIN:VEVENT
SUMMARY:Karlsson vom Dach — Kindertheater im Alten Hallenbad
DTSTART:20260612T080000Z
DTEND:20260612T090000Z
DTSTAMP:20260421T043144Z
UID:kulvio-event-3005@kulvio.de
CATEGORIES:Kindertheater
CREATED:20260419T161520Z
DESCRIPTION:Das Kindertheater zeigt Karlsson vom Dach nach dem Kinderbuchk
 lassiker von Astrid Lindgren im Theater Altes Hallenbad in Friedberg. Die 
 Aufführung um 10 Uhr richtet sich an Kinder ab dem Vorschulalter und brin
 gt die Geschichte des fliegenden Mannes mit Propeller auf die Bühne der H
 aagstraße. Der Eintritt beträgt 4 bis 8 Euro.
GEO:50.335785;8.756658
LAST-MODIFIED:20260419T163353Z
LOCATION:Theater Altes Hallenbad\, Haagstraße 29\, 61169\, Friedberg (Hes
 sen)
STATUS:CONFIRMED
URL:https://kulvio.de/event/3005
END:VEVENT
END:VCALENDAR
