BEGIN:VCALENDAR
VERSION:2.0
PRODID:-//Kulvio Event Calendar//kulvio.de//
CALSCALE:GREGORIAN
METHOD:PUBLISH
BEGIN:VEVENT
SUMMARY:Amigos und Daniela Alfinito live in der Stadthalle Friedberg
DTSTART:20260627T130000Z
DTEND:20260627T140000Z
DTSTAMP:20260421T043144Z
UID:kulvio-event-3006@kulvio.de
CATEGORIES:Konzert
CREATED:20260419T161520Z
DESCRIPTION:Das Schlager-Duo Amigos und Sängerin Daniela Alfinito treten 
 gemeinsam in der Stadthalle Friedberg auf. Die Amigos zählen zu den erfol
 greichsten deutschen Schlagergruppen und Daniela Alfinito begeistert mit T
 iteln wie Dann zieh ich meine Blue Jeans an. Das Konzert beginnt um 15 Uhr
  in der Georg-August-Zinn-Halle am Seebach.
GEO:50.334489;8.745469
LAST-MODIFIED:20260419T163353Z
LOCATION:Stadthalle Friedberg\, Am Seebach 2\, 61169\, Friedberg (Hessen)
STATUS:CONFIRMED
URL:https://kulvio.de/event/3006
END:VEVENT
END:VCALENDAR
