BEGIN:VCALENDAR
VERSION:2.0
PRODID:-//Kulvio Event Calendar//kulvio.de//
CALSCALE:GREGORIAN
METHOD:PUBLISH
BEGIN:VEVENT
SUMMARY:ZZ Top: The Big One — Open Air auf der Seewiese Friedberg
DTSTART:20260703T180000Z
DTEND:20260703T190000Z
DTSTAMP:20260421T043152Z
UID:kulvio-event-3007@kulvio.de
CATEGORIES:Konzert,Open-Air
CREATED:20260419T161520Z
DESCRIPTION:Die texanische Bluesrock-Legende ZZ Top spielt im Rahmen ihrer
  The Big One Tour ein Open-Air-Konzert auf der Seewiese in Friedberg. Die 
 Band um Billy Gibbons gehört mit über 50 Millionen verkauften Alben zu d
 en erfolgreichsten Rock-Acts der Musikgeschichte. Hits wie La Grange und S
 harp Dressed Man sind fester Bestandteil des Repertoires. Tickets sind ab 
 82 Euro erhältlich.
GEO:50.339344;8.749274
LAST-MODIFIED:20260419T163353Z
LOCATION:Seewiese Friedberg\, An der Seewiese\, 61169\, Friedberg (Hessen)
STATUS:CONFIRMED
URL:https://kulvio.de/event/3007
END:VEVENT
END:VCALENDAR
