BEGIN:VCALENDAR
VERSION:2.0
PRODID:-//Kulvio Event Calendar//kulvio.de//
CALSCALE:GREGORIAN
METHOD:PUBLISH
BEGIN:VEVENT
SUMMARY:Mark Forster: Sommer Shows 2026 — Open Air Seewiese Friedberg
DTSTART:20260710T170000Z
DTEND:20260710T180000Z
DTSTAMP:20260421T042943Z
UID:kulvio-event-3008@kulvio.de
CATEGORIES:Konzert,Open-Air
CREATED:20260419T161520Z
DESCRIPTION:Der Popsänger Mark Forster kehrt mit seinen Sommer Shows 2026
  auf die Open-Air-Bühne der Seewiese in Friedberg zurück. Forster gehör
 t zu den erfolgreichsten deutschen Popkünstlern und ist bekannt für Hits
  wie Übermorgen und Chöre. Das Konzert beginnt um 19 Uhr auf dem Freigel
 ände an der Seewiese. Tickets sind ab 68\,95 Euro erhältlich.
GEO:50.339344;8.749274
LAST-MODIFIED:20260419T163353Z
LOCATION:Seewiese Friedberg\, An der Seewiese\, 61169\, Friedberg (Hessen)
STATUS:CONFIRMED
URL:https://kulvio.de/event/3008
END:VEVENT
END:VCALENDAR
