BEGIN:VCALENDAR
VERSION:2.0
PRODID:-//Kulvio Event Calendar//kulvio.de//
CALSCALE:GREGORIAN
METHOD:PUBLISH
BEGIN:VEVENT
SUMMARY:90s Super Show — Open Air Seewiese Friedberg
DTSTART:20260711T130000Z
DTEND:20260711T140000Z
DTSTAMP:20260421T043143Z
UID:kulvio-event-3009@kulvio.de
CATEGORIES:Konzert,Festival,Open-Air
CREATED:20260419T161520Z
DESCRIPTION:Die 90s Super Show bringt die größten Hits der Neunziger auf
  die Seewiese in Friedberg. Das Open-Air-Event versammelt mehrere Acts der
  90er-Jahre für ein nostalgisches Konzerterlebnis unter freiem Himmel. Di
 e Show beginnt bereits um 15 Uhr am Nachmittag und bietet stundenlange Unt
 erhaltung. Tickets sind ab 49\,40 Euro erhältlich.
GEO:50.339344;8.749274
LAST-MODIFIED:20260419T163353Z
LOCATION:Seewiese Friedberg\, An der Seewiese\, 61169\, Friedberg (Hessen)
STATUS:CONFIRMED
URL:https://kulvio.de/event/3009
END:VEVENT
END:VCALENDAR
