BEGIN:VCALENDAR
VERSION:2.0
PRODID:-//Kulvio Event Calendar//kulvio.de//
CALSCALE:GREGORIAN
METHOD:PUBLISH
BEGIN:VEVENT
SUMMARY:Matthäusmarkt Friedberg
DTSTART:20260927T080000Z
DTEND:20260927T160000Z
DTSTAMP:20260421T035128Z
UID:kulvio-event-3010@kulvio.de
CATEGORIES:Saisonmarkt
CREATED:20260419T161520Z
DESCRIPTION:Der Matthäusmarkt ist einer der vier großen traditionellen J
 ahrmärkte der Kreisstadt Friedberg in der Wetterau. Händler und Kunsthan
 dwerker bieten ihre Waren in der Altstadt an und die Geschäfte öffnen zu
 m verkaufsoffenen Sonntag. Der Markt lädt von 10 bis 18 Uhr zum Bummeln u
 nd Entdecken ein und bietet regionale Spezialitäten. Der Eintritt ist fre
 i.
GEO:50.328272;8.747636
LAST-MODIFIED:20260419T163353Z
LOCATION:Altstadt\, 61169\, Friedberg (Hessen)
STATUS:CONFIRMED
URL:https://kulvio.de/event/3010
END:VEVENT
END:VCALENDAR
