BEGIN:VCALENDAR
VERSION:2.0
PRODID:-//Kulvio Event Calendar//kulvio.de//
CALSCALE:GREGORIAN
METHOD:PUBLISH
BEGIN:VEVENT
SUMMARY:Ray Wilson live in der Stadthalle Friedberg
DTSTART:20261002T180000Z
DTEND:20261002T190000Z
DTSTAMP:20260421T042804Z
UID:kulvio-event-3011@kulvio.de
CATEGORIES:Konzert
CREATED:20260419T161520Z
DESCRIPTION:Der schottische Sänger Ray Wilson\, bekannt als ehemaliger Fr
 ontmann von Genesis\, tritt in der Stadthalle Friedberg auf. Wilson war Le
 adsänger des Albums Calling All Stations und präsentiert neben Solo-Mate
 rial auch Klassiker aus der Genesis-Ära. Das Konzert beginnt um 20 Uhr in
  der Georg-August-Zinn-Halle am Seebach.
GEO:50.334489;8.745469
LAST-MODIFIED:20260419T163353Z
LOCATION:Stadthalle Friedberg\, Am Seebach 2\, 61169\, Friedberg (Hessen)
STATUS:CONFIRMED
URL:https://kulvio.de/event/3011
END:VEVENT
END:VCALENDAR
