BEGIN:VCALENDAR
VERSION:2.0
PRODID:-//Kulvio Event Calendar//kulvio.de//
CALSCALE:GREGORIAN
METHOD:PUBLISH
BEGIN:VEVENT
SUMMARY:Die Mainzer Hofsänger: Showtime-Konzert in der Stadthalle Friedbe
 rg
DTSTART:20261003T150000Z
DTEND:20261003T160000Z
DTSTAMP:20260421T041935Z
UID:kulvio-event-3012@kulvio.de
CATEGORIES:Konzert,Show
CREATED:20260419T161520Z
DESCRIPTION:Die Mainzer Hofsänger präsentieren ihr Showtime-Konzert in d
 er Stadthalle Friedberg. Der Chor verbindet klassische Chorliteratur mit P
 op und Showeinlagen und gehört zu den renommiertesten Konzertchören der 
 Region. Das Konzert beginnt um 17 Uhr am Tag der Deutschen Einheit in der 
 Georg-August-Zinn-Halle.
GEO:50.334489;8.745469
LAST-MODIFIED:20260419T163353Z
LOCATION:Stadthalle Friedberg\, Am Seebach 2\, 61169\, Friedberg (Hessen)
STATUS:CONFIRMED
URL:https://kulvio.de/event/3012
END:VEVENT
END:VCALENDAR
