BEGIN:VCALENDAR
VERSION:2.0
PRODID:-//Kulvio Event Calendar//kulvio.de//
CALSCALE:GREGORIAN
METHOD:PUBLISH
BEGIN:VEVENT
SUMMARY:Martinimarkt Friedberg
DTSTART:20261108T090000Z
DTEND:20261108T170000Z
DTSTAMP:20260421T035119Z
UID:kulvio-event-3013@kulvio.de
CATEGORIES:Saisonmarkt
CREATED:20260419T161520Z
DESCRIPTION:Der Martinimarkt bildet den letzten der vier großen Friedberg
 er Jahrmärkte und stimmt die Altstadt auf die Vorweihnachtszeit ein. Hän
 dler bieten von 10 bis 18 Uhr Kunsthandwerk\, Dekorationen und Kulinarisch
 es an. Die Geschäfte in der Innenstadt öffnen von 12 bis 17 Uhr zum verk
 aufsoffenen Sonntag. Der Eintritt ist frei.
GEO:50.328272;8.747636
LAST-MODIFIED:20260419T163353Z
LOCATION:Altstadt\, 61169\, Friedberg (Hessen)
STATUS:CONFIRMED
URL:https://kulvio.de/event/3013
END:VEVENT
END:VCALENDAR
