BEGIN:VCALENDAR
VERSION:2.0
PRODID:-//Kulvio Event Calendar//kulvio.de//
CALSCALE:GREGORIAN
METHOD:PUBLISH
BEGIN:VEVENT
SUMMARY:Friedberger Winterzauber in der Burg — Samstag
DTSTART:20261205T110000Z
DTEND:20261205T200000Z
DTSTAMP:20260421T042308Z
UID:kulvio-event-3014@kulvio.de
CATEGORIES:Weihnachtsmarkt
CREATED:20260419T161521Z
DESCRIPTION:Der Friedberger Winterzauber verwandelt die historische Burg F
 riedberg in ein weihnachtliches Dorf mit Marktständen und einer Eislaufba
 hn. Rund 40 Hütten bieten am zweiten Adventswochenende Kunsthandwerk\, Ku
 linarisches und Glühwein in der stimmungsvollen Kulisse der mittelalterli
 chen Burganlage. Am Samstag besucht der Nikolaus den Markt. Der Eintritt i
 st frei.
GEO:50.341488;8.754583
LAST-MODIFIED:20260419T163353Z
LOCATION:Burg Friedberg\, In der Burg 13a\, 61169\, Friedberg (Hessen)
STATUS:CONFIRMED
URL:https://kulvio.de/event/3014
END:VEVENT
END:VCALENDAR
