BEGIN:VCALENDAR
VERSION:2.0
PRODID:-//Kulvio Event Calendar//kulvio.de//
CALSCALE:GREGORIAN
METHOD:PUBLISH
BEGIN:VEVENT
SUMMARY:Friedberger Winterzauber in der Burg — Sonntag
DTSTART:20261206T100000Z
DTEND:20261206T190000Z
DTSTAMP:20260421T042804Z
UID:kulvio-event-3015@kulvio.de
CATEGORIES:Weihnachtsmarkt
CREATED:20260419T161521Z
DESCRIPTION:Am Sonntag des zweiten Adventswochenendes öffnet der Winterza
 uber in der Burg Friedberg erneut seine Tore. Besucher erwartet die stimmu
 ngsvolle Atmosphäre der mittelalterlichen Burganlage mit Marktständen\, 
 Eislaufbahn und weihnachtlichem Programm. Der Winterzauber gehört zu den 
 atmosphärischsten Weihnachtsmärkten in der Wetterau. Der Eintritt ist fr
 ei.
GEO:50.341488;8.754583
LAST-MODIFIED:20260419T163353Z
LOCATION:Burg Friedberg\, In der Burg 13a\, 61169\, Friedberg (Hessen)
STATUS:CONFIRMED
URL:https://kulvio.de/event/3015
END:VEVENT
END:VCALENDAR
