BEGIN:VCALENDAR
VERSION:2.0
PRODID:-//Kulvio Event Calendar//kulvio.de//
CALSCALE:GREGORIAN
METHOD:PUBLISH
BEGIN:VEVENT
SUMMARY:A Tribute to the Best of Hans Zimmer — Stadthalle Friedberg
DTSTART:20261215T190000Z
DTEND:20261215T200000Z
DTSTAMP:20260421T042809Z
UID:kulvio-event-3016@kulvio.de
CATEGORIES:Konzert
CREATED:20260419T161521Z
DESCRIPTION:Ein Ensemble aus Musikern und Sängern präsentiert die bekann
 testen Filmmusiken von Hans Zimmer live in der Stadthalle Friedberg. Von I
 nception über Interstellar bis Der König der Löwen erklingen die ikonis
 chen Kompositionen des Oscar-Preisträgers in neuer Besetzung. Das Konzert
  beginnt um 20 Uhr in der Georg-August-Zinn-Halle am Seebach.
GEO:50.334489;8.745469
LAST-MODIFIED:20260419T163353Z
LOCATION:Stadthalle Friedberg\, Am Seebach 2\, 61169\, Friedberg (Hessen)
STATUS:CONFIRMED
URL:https://kulvio.de/event/3016
END:VEVENT
END:VCALENDAR
