BEGIN:VCALENDAR
VERSION:2.0
PRODID:-//Kulvio Event Calendar//kulvio.de//
CALSCALE:GREGORIAN
METHOD:PUBLISH
BEGIN:VEVENT
SUMMARY:All I Want For Christmas — Weihnachts-Pop-Classics in der Stadth
 alle Friedberg
DTSTART:20261219T190000Z
DTEND:20261219T200000Z
DTSTAMP:20260421T042427Z
UID:kulvio-event-3017@kulvio.de
CATEGORIES:Konzert,Show
CREATED:20260419T161521Z
DESCRIPTION:Die Show All I Want For Christmas bringt die beliebtesten Weih
 nachts-Pop-Klassiker auf die Bühne der Stadthalle Friedberg. Von Last Chr
 istmas über White Christmas bis Jingle Bell Rock erklingen die Hits der W
 eihnachtszeit in einer festlichen Live-Produktion. Das Konzert beginnt um 
 20 Uhr und stimmt auf die Feiertage ein.
GEO:50.334489;8.745469
LAST-MODIFIED:20260419T163353Z
LOCATION:Stadthalle Friedberg\, Am Seebach 2\, 61169\, Friedberg (Hessen)
STATUS:CONFIRMED
URL:https://kulvio.de/event/3017
END:VEVENT
END:VCALENDAR
