BEGIN:VCALENDAR
VERSION:2.0
PRODID:-//Kulvio Event Calendar//kulvio.de//
CALSCALE:GREGORIAN
METHOD:PUBLISH
BEGIN:VEVENT
SUMMARY:30 Jahre Keltenfürst — Jubiläum Keltenwelt am Glauberg
DTSTART:20260628T080000Z
DTEND:20260628T090000Z
DTSTAMP:20260421T042502Z
UID:kulvio-event-3018@kulvio.de
CATEGORIES:Geschichte,Ausstellung
CREATED:20260419T161552Z
DESCRIPTION:Die Keltenwelt am Glauberg feiert das 30-jährige Jubiläum de
 r Entdeckung des Keltenfürsten mit einer großen Festveranstaltung. Das a
 rchäologische Museum am Fuße des Glaubergs beherbergt eine der bedeutend
 sten keltischen Sammlungen Hessens und zeigt die berühmte Statue des Kelt
 enfürsten. Zum Jubiläum werden Sonderprogramme\, Führungen und Mitmach-
 Aktionen für alle Altersgruppen angeboten.
GEO:50.306296;9.00751
LAST-MODIFIED:20260419T163353Z
LOCATION:Keltenwelt am Glauberg\, Am Glauberg 1\, 63695\, Glauburg
STATUS:CONFIRMED
URL:https://kulvio.de/event/3018
END:VEVENT
END:VCALENDAR
