BEGIN:VCALENDAR
VERSION:2.0
PRODID:-//Kulvio Event Calendar//kulvio.de//
CALSCALE:GREGORIAN
METHOD:PUBLISH
BEGIN:VEVENT
SUMMARY:Kerb TSV Stockheim — Freitag
DTSTART:20260911T170000Z
DTEND:20260911T215900Z
DTSTAMP:20260421T035333Z
UID:kulvio-event-3019@kulvio.de
CATEGORIES:Stadtfest,Tradition
CREATED:20260419T161552Z
DESCRIPTION:Die Kerb des TSV Stockheim ist ein traditionelles hessisches V
 olksfest im Glauburger Ortsteil Stockheim. Der Sportverein organisiert üb
 er vier Tage ein buntes Programm mit Festzelt\, Musik und geselligem Beisa
 mmensein. Am Freitagabend wird die Kerb feierlich eröffnet und lädt die 
 ganze Gemeinde zum Feiern ein.
GEO:50.327205;9.010075
LAST-MODIFIED:20260419T163353Z
LOCATION:Stockheim\, Glauburg\, 63695\, Glauburg
STATUS:CONFIRMED
URL:https://kulvio.de/event/3019
END:VEVENT
END:VCALENDAR
