BEGIN:VCALENDAR
VERSION:2.0
PRODID:-//Kulvio Event Calendar//kulvio.de//
CALSCALE:GREGORIAN
METHOD:PUBLISH
BEGIN:VEVENT
SUMMARY:Kerb TSV Stockheim — Samstag
DTSTART:20260912T120000Z
DTEND:20260912T215900Z
DTSTAMP:20260421T035203Z
UID:kulvio-event-3020@kulvio.de
CATEGORIES:Stadtfest,Tradition
CREATED:20260419T161552Z
DESCRIPTION:Am Samstag geht die Kerb in Stockheim in die zweite Runde. Der
  TSV Stockheim lädt zum ausgelassenen Feiern im Festzelt mit Live-Musik u
 nd traditionellem Kerbprogramm ein. Die Stockheimer Kerb gehört zu den fe
 sten Terminen im Veranstaltungskalender der Gemeinde Glauburg.
GEO:50.327205;9.010075
LAST-MODIFIED:20260419T163353Z
LOCATION:Stockheim\, Glauburg\, 63695\, Glauburg
STATUS:CONFIRMED
URL:https://kulvio.de/event/3020
END:VEVENT
END:VCALENDAR
