BEGIN:VCALENDAR
VERSION:2.0
PRODID:-//Kulvio Event Calendar//kulvio.de//
CALSCALE:GREGORIAN
METHOD:PUBLISH
BEGIN:VEVENT
SUMMARY:Kerb TSV Stockheim — Sonntag
DTSTART:20260913T090000Z
DTEND:20260913T210000Z
DTSTAMP:20260421T034513Z
UID:kulvio-event-3021@kulvio.de
CATEGORIES:Stadtfest,Tradition
CREATED:20260419T161552Z
DESCRIPTION:Der Kerbsonntag in Stockheim bietet ein abwechslungsreiches Pr
 ogramm für die ganze Familie. Neben dem traditionellen Festbetrieb im Fes
 tzelt gibt es Unterhaltung für alle Altersgruppen. Der TSV Stockheim sorg
 t für Verpflegung und ein stimmungsvolles Rahmenprogramm.
GEO:50.327205;9.010075
LAST-MODIFIED:20260419T163353Z
LOCATION:Stockheim\, Glauburg\, 63695\, Glauburg
STATUS:CONFIRMED
URL:https://kulvio.de/event/3021
END:VEVENT
END:VCALENDAR
