BEGIN:VCALENDAR
VERSION:2.0
PRODID:-//Kulvio Event Calendar//kulvio.de//
CALSCALE:GREGORIAN
METHOD:PUBLISH
BEGIN:VEVENT
SUMMARY:Kerb TSV Stockheim — Montag
DTSTART:20260914T120000Z
DTEND:20260914T210000Z
DTSTAMP:20260421T042310Z
UID:kulvio-event-3022@kulvio.de
CATEGORIES:Stadtfest,Tradition
CREATED:20260419T161552Z
DESCRIPTION:Am Kerbmontag klingt das viertägige Volksfest in Stockheim ge
 mütlich aus. Der letzte Tag der Kerb bietet noch einmal Gelegenheit zum g
 eselligen Beisammensein bei Essen und Trinken im Festzelt. Der TSV Stockhe
 im verabschiedet die Kerb bis zum nächsten Jahr.
GEO:50.327205;9.010075
LAST-MODIFIED:20260419T163353Z
LOCATION:Stockheim\, Glauburg\, 63695\, Glauburg
STATUS:CONFIRMED
URL:https://kulvio.de/event/3022
END:VEVENT
END:VCALENDAR
