BEGIN:VCALENDAR
VERSION:2.0
PRODID:-//Kulvio Event Calendar//kulvio.de//
CALSCALE:GREGORIAN
METHOD:PUBLISH
BEGIN:VEVENT
SUMMARY:Kerb FSV Glauberg — Donnerstag
DTSTART:20261015T170000Z
DTEND:20261015T215900Z
DTSTAMP:20260421T042502Z
UID:kulvio-event-3023@kulvio.de
CATEGORIES:Stadtfest,Tradition
CREATED:20260419T161552Z
DESCRIPTION:Die Kerb des FSV Glauberg ist ein traditionelles hessisches Vo
 lksfest in der Mehrzweckhalle Glauburg. Der Fußballsportverein organisier
 t über vier Tage ein vielfältiges Programm mit Musik\, Tanz und festlich
 er Bewirtung. Am Donnerstagabend wird die Glauberger Kerb feierlich eröff
 net.
GEO:50.321742;9.002393
LAST-MODIFIED:20260419T163353Z
LOCATION:Mehrzweckhalle Glauburg\, Glauburg\, 63695\, Glauburg
STATUS:CONFIRMED
URL:https://kulvio.de/event/3023
END:VEVENT
END:VCALENDAR
