BEGIN:VCALENDAR
VERSION:2.0
PRODID:-//Kulvio Event Calendar//kulvio.de//
CALSCALE:GREGORIAN
METHOD:PUBLISH
BEGIN:VEVENT
SUMMARY:Kerb FSV Glauberg — Freitag
DTSTART:20261016T170000Z
DTEND:20261016T215900Z
DTSTAMP:20260421T035335Z
UID:kulvio-event-3024@kulvio.de
CATEGORIES:Stadtfest,Tradition
CREATED:20260419T161552Z
DESCRIPTION:Am Freitag geht die Glauberger Kerb in der Mehrzweckhalle in d
 ie zweite Runde. Der FSV Glauberg präsentiert Live-Musik und ein stimmung
 svolles Abendprogramm im Festzelt. Die Kerb ist ein fester Bestandteil des
  kulturellen Lebens in der Gemeinde Glauburg.
GEO:50.321742;9.002393
LAST-MODIFIED:20260419T163353Z
LOCATION:Mehrzweckhalle Glauburg\, Glauburg\, 63695\, Glauburg
STATUS:CONFIRMED
URL:https://kulvio.de/event/3024
END:VEVENT
END:VCALENDAR
