BEGIN:VCALENDAR
VERSION:2.0
PRODID:-//Kulvio Event Calendar//kulvio.de//
CALSCALE:GREGORIAN
METHOD:PUBLISH
BEGIN:VEVENT
SUMMARY:Kerb FSV Glauberg — Samstag
DTSTART:20261017T120000Z
DTEND:20261017T215900Z
DTSTAMP:20260421T081514Z
UID:kulvio-event-3025@kulvio.de
CATEGORIES:Stadtfest,Tradition
CREATED:20260419T161552Z
DESCRIPTION:Der Kerbsamstag in Glauberg bietet den Höhepunkt des Volksfes
 ts mit vollem Programm in der Mehrzweckhalle. Familien und Gäste aus der 
 Umgebung kommen zusammen\, um bei Musik und festlicher Stimmung die hessis
 che Kerbtradition zu pflegen. Der FSV Glauberg sorgt für reichhaltige Bew
 irtung.
GEO:50.321742;9.002393
LAST-MODIFIED:20260419T163353Z
LOCATION:Mehrzweckhalle Glauburg\, Glauburg\, 63695\, Glauburg
STATUS:CONFIRMED
URL:https://kulvio.de/event/3025
END:VEVENT
END:VCALENDAR
