BEGIN:VCALENDAR
VERSION:2.0
PRODID:-//Kulvio Event Calendar//kulvio.de//
CALSCALE:GREGORIAN
METHOD:PUBLISH
BEGIN:VEVENT
SUMMARY:Kerb FSV Glauberg — Sonntag
DTSTART:20261018T090000Z
DTEND:20261018T200000Z
DTSTAMP:20260421T042933Z
UID:kulvio-event-3026@kulvio.de
CATEGORIES:Stadtfest,Tradition
CREATED:20260419T161552Z
DESCRIPTION:Am Kerbsonntag klingt das viertägige Volksfest in Glauburg in
  der Mehrzweckhalle aus. Der letzte Tag bietet noch einmal Gelegenheit zum
  gemeinsamen Feiern und geselligen Beisammensein. Der FSV Glauberg verabsc
 hiedet die diesjährige Kerb und lädt zum gemütlichen Ausklang ein.
GEO:50.321742;9.002393
LAST-MODIFIED:20260419T163353Z
LOCATION:Mehrzweckhalle Glauburg\, Glauburg\, 63695\, Glauburg
STATUS:CONFIRMED
URL:https://kulvio.de/event/3026
END:VEVENT
END:VCALENDAR
