BEGIN:VCALENDAR
VERSION:2.0
PRODID:-//Kulvio Event Calendar//kulvio.de//
CALSCALE:GREGORIAN
METHOD:PUBLISH
BEGIN:VEVENT
SUMMARY:Lichterglanz an der Alten Schule Glauburg
DTSTART:20261126T150000Z
DTEND:20261126T210000Z
DTSTAMP:20260421T042802Z
UID:kulvio-event-3027@kulvio.de
CATEGORIES:Weihnachtsmarkt
CREATED:20260419T161552Z
DESCRIPTION:Die Gemeinde Glauburg verwandelt den Platz an der Alten Schule
  in der Neuen Dorfmitte in ein weihnachtliches Lichtermeer. Besucher könn
 en bei Glühwein und Punsch die vorweihnachtliche Atmosphäre genießen un
 d handwerkliche Produkte lokaler Anbieter entdecken. Die Veranstaltung lä
 dt Familien und Freunde zum gemeinsamen Verweilen in festlicher Stimmung e
 in.
GEO:50.321742;9.002393
LAST-MODIFIED:20260419T163353Z
LOCATION:Alte Schule Glauburg\, Neue Dorfmitte\, Glauburg\, 63695\, Glaubu
 rg
STATUS:CONFIRMED
URL:https://kulvio.de/event/3027
END:VEVENT
END:VCALENDAR
