BEGIN:VCALENDAR
VERSION:2.0
PRODID:-//Kulvio Event Calendar//kulvio.de//
CALSCALE:GREGORIAN
METHOD:PUBLISH
BEGIN:VEVENT
SUMMARY:35. Karbener Stadtlauf 2026
DTSTART:20260809T070000Z
DTEND:20260809T130000Z
DTSTAMP:20260421T042310Z
UID:kulvio-event-3028@kulvio.de
CATEGORIES:Laufsport,Wettkampf
CREATED:20260419T161604Z
DESCRIPTION:Der Karbener Stadtlauf geht in seine 35. Auflage und bietet se
 chs verschiedene Strecken für alle Altersgruppen und Leistungsstufen. Von
  der 300-Meter-Kinderstrecke bis zum 21\,1-Kilometer-Halbmarathon findet j
 eder Läufer die passende Distanz. Der Karbener Sportverein KSV 1890 richt
 et die Veranstaltung aus\, die jährlich Läufer aus der gesamten Wetterau
  anzieht.
GEO:50.225672;8.770186
LAST-MODIFIED:20260419T163353Z
LOCATION:Günter-Reutzel-Weg 4-6\, 61184\, Karben
STATUS:CONFIRMED
URL:https://kulvio.de/event/3028
END:VEVENT
END:VCALENDAR
