BEGIN:VCALENDAR
VERSION:2.0
PRODID:-//Kulvio Event Calendar//kulvio.de//
CALSCALE:GREGORIAN
METHOD:PUBLISH
BEGIN:VEVENT
SUMMARY:Karben Open Air 2026 — Freitag
DTSTART:20260814T080000Z
DTEND:20260814T210000Z
DTSTAMP:20260421T042428Z
UID:kulvio-event-3029@kulvio.de
CATEGORIES:Festival,Open-Air
CREATED:20260419T161604Z
DESCRIPTION:Das Karben Open Air ist eines der größten Musikfestivals der
  Wetterau und findet seit 2006 jährlich statt. Am Freitag eröffnen unter
  anderem Paula Carolina\, The Sons Of Huens und ZSK das dreitägige Festiv
 al mit Punk\, Rock\, Indie und Hip-Hop. Das Festival zieht jedes Jahr taus
 ende Besucher aus der Region an.
GEO:50.240509;8.750269
LAST-MODIFIED:20260419T163353Z
LOCATION:Brunnenstraße\, 61184\, Karben
STATUS:CONFIRMED
URL:https://kulvio.de/event/3029
END:VEVENT
END:VCALENDAR
