BEGIN:VCALENDAR
VERSION:2.0
PRODID:-//Kulvio Event Calendar//kulvio.de//
CALSCALE:GREGORIAN
METHOD:PUBLISH
BEGIN:VEVENT
SUMMARY:Karben Open Air 2026 — Samstag
DTSTART:20260815T080000Z
DTEND:20260815T210000Z
DTSTAMP:20260421T042426Z
UID:kulvio-event-3030@kulvio.de
CATEGORIES:Festival,Open-Air
CREATED:20260419T161604Z
DESCRIPTION:Am Samstag setzt das Karben Open Air sein Programm mit weitere
 n Acts aus verschiedenen Musikgenres fort. Unter den angekündigten Bands 
 sind Callejon\, Mr. Hurley und Die Pulveraffen sowie Soffie. Neben der Mus
 ik bietet das Festival Campingmöglichkeiten und ein vielfältiges Rahmenp
 rogramm.
GEO:50.240509;8.750269
LAST-MODIFIED:20260419T163353Z
LOCATION:Brunnenstraße\, 61184\, Karben
STATUS:CONFIRMED
URL:https://kulvio.de/event/3030
END:VEVENT
END:VCALENDAR
