BEGIN:VCALENDAR
VERSION:2.0
PRODID:-//Kulvio Event Calendar//kulvio.de//
CALSCALE:GREGORIAN
METHOD:PUBLISH
BEGIN:VEVENT
SUMMARY:Karben Open Air 2026 — Sonntag
DTSTART:20260816T080000Z
DTEND:20260816T210000Z
DTSTAMP:20260421T042808Z
UID:kulvio-event-3031@kulvio.de
CATEGORIES:Festival,Open-Air
CREATED:20260419T161604Z
DESCRIPTION:Der abschließende Sonntag des Karben Open Air bildet den Ausk
 lang des dreitägigen Musikfestivals in der Wetterau. Weitere Bands und K
 ünstler treten auf und sorgen für einen stimmungsvollen Abschluss des Fe
 stivalwochenendes. Das Karben Open Air ist bekannt für seine entspannte A
 tmosphäre und das breite Publikum aus der ganzen Region.
GEO:50.240509;8.750269
LAST-MODIFIED:20260419T163353Z
LOCATION:Brunnenstraße\, 61184\, Karben
STATUS:CONFIRMED
URL:https://kulvio.de/event/3031
END:VEVENT
END:VCALENDAR
