BEGIN:VCALENDAR
VERSION:2.0
PRODID:-//Kulvio Event Calendar//kulvio.de//
CALSCALE:GREGORIAN
METHOD:PUBLISH
BEGIN:VEVENT
SUMMARY:Münzenberger Mittelaltermarkt 2026 — Samstag
DTSTART:20260523T090000Z
DTEND:20260523T210000Z
DTSTAMP:20260421T042309Z
UID:kulvio-event-3032@kulvio.de
CATEGORIES:Tradition,Open-Air,Saisonmarkt
CREATED:20260419T161618Z
DESCRIPTION:Der Mittelaltermarkt an der Burgruine Münzenberg gehört zu d
 en größten mittelalterlichen Veranstaltungen im Wetteraukreis. Die Freie
  Ritterschaft zu Münzenberg organisiert das dreitägige Pfingstspektakel 
 mit Handwerkern\, Gauklern\, Reiterspielen und mittelalterlicher Musik. Am
  Samstag eröffnet der Markt auf der Wiese hinter der historischen Burgrui
 ne und zieht Besucher aus der ganzen Region an.
GEO:50.452098;8.776101
LAST-MODIFIED:20260419T163353Z
LOCATION:Unter der Burg\, 35516\, Münzenberg
STATUS:CONFIRMED
URL:https://kulvio.de/event/3032
END:VEVENT
END:VCALENDAR
