BEGIN:VCALENDAR
VERSION:2.0
PRODID:-//Kulvio Event Calendar//kulvio.de//
CALSCALE:GREGORIAN
METHOD:PUBLISH
BEGIN:VEVENT
SUMMARY:Münzenberger Mittelaltermarkt 2026 — Sonntag
DTSTART:20260524T090000Z
DTEND:20260524T210000Z
DTSTAMP:20260421T042119Z
UID:kulvio-event-3033@kulvio.de
CATEGORIES:Tradition,Open-Air,Saisonmarkt
CREATED:20260419T161618Z
DESCRIPTION:Am Pfingstsonntag setzt der Mittelaltermarkt an der Burgruine 
 Münzenberg sein volles Programm fort. Handwerkstände\, Ritterspiele und 
 mittelalterliche Musik prägen das Bild des traditionellen Spektakels. Die
  Atmosphäre an der Burgruine vermittelt einen lebendigen Eindruck vergang
 ener Zeiten und bietet Unterhaltung für die ganze Familie.
GEO:50.452098;8.776101
LAST-MODIFIED:20260419T163353Z
LOCATION:Unter der Burg\, 35516\, Münzenberg
STATUS:CONFIRMED
URL:https://kulvio.de/event/3033
END:VEVENT
END:VCALENDAR
