BEGIN:VCALENDAR
VERSION:2.0
PRODID:-//Kulvio Event Calendar//kulvio.de//
CALSCALE:GREGORIAN
METHOD:PUBLISH
BEGIN:VEVENT
SUMMARY:Münzenberger Mittelaltermarkt 2026 — Pfingstmontag
DTSTART:20260525T090000Z
DTEND:20260525T210000Z
DTSTAMP:20260421T042426Z
UID:kulvio-event-3034@kulvio.de
CATEGORIES:Tradition,Open-Air,Saisonmarkt
CREATED:20260419T161618Z
DESCRIPTION:Am Pfingstmontag findet der abschließende Tag des dreitägige
 n Mittelaltermarkts an der Burgruine Münzenberg statt. Besucher nutzen de
 n Feiertag für einen Ausflug zur Burgruine und können alle Attraktionen 
 des mittelalterlichen Spektakels noch einmal erleben. Das Pfingstwochenend
 e an der Münzenberg gehört zu den Highlights im Veranstaltungskalender d
 es Wetteraukreises.
GEO:50.452098;8.776101
LAST-MODIFIED:20260419T163353Z
LOCATION:Unter der Burg\, 35516\, Münzenberg
STATUS:CONFIRMED
URL:https://kulvio.de/event/3034
END:VEVENT
END:VCALENDAR
