BEGIN:VCALENDAR
VERSION:2.0
PRODID:-//Kulvio Event Calendar//kulvio.de//
CALSCALE:GREGORIAN
METHOD:PUBLISH
BEGIN:VEVENT
SUMMARY:Bauernmarkt Bad Salzhausen — Mai
DTSTART:20260503T080000Z
DTEND:20260503T150000Z
DTSTAMP:20260421T042429Z
UID:kulvio-event-3035@kulvio.de
CATEGORIES:Wochenmarkt
CREATED:20260419T161629Z
DESCRIPTION:Der monatliche Bauernmarkt in Bad Salzhausen bietet regionale 
 Produkte\, lokale Handwerkswaren und kulinarische Spezialitäten direkt vo
 n Erzeugern aus der Wetterau. Besucher können im Unteren Kurpark des Heil
 bads frische Waren einkaufen und das Angebot an saisonalen Erzeugnissen ge
 nießen. Der Markt findet ganzjährig jeden ersten Sonntag im Monat statt.
GEO:50.42204;8.99969
LAST-MODIFIED:20260419T163353Z
LOCATION:Kurstraße\, 63667\, Nidda
STATUS:CONFIRMED
URL:https://kulvio.de/event/3035
END:VEVENT
END:VCALENDAR
