BEGIN:VCALENDAR
VERSION:2.0
PRODID:-//Kulvio Event Calendar//kulvio.de//
CALSCALE:GREGORIAN
METHOD:PUBLISH
BEGIN:VEVENT
SUMMARY:Bauernmarkt Bad Salzhausen — Juni
DTSTART:20260607T080000Z
DTEND:20260607T150000Z
DTSTAMP:20260421T042009Z
UID:kulvio-event-3036@kulvio.de
CATEGORIES:Wochenmarkt
CREATED:20260419T161629Z
DESCRIPTION:Der monatliche Bauernmarkt in Bad Salzhausen lädt zum Einkauf
 en regionaler Produkte und Handwerkswaren im Unteren Kurpark ein. Das Ange
 bot reicht von frischem Obst und Gemüse über Käse und Wurst bis hin zu 
 Honig und Backwaren aus der Wetterau. Der Markt ist ein beliebter Treffpun
 kt für Einheimische und Besucher des Heilbads.
GEO:50.42204;8.99969
LAST-MODIFIED:20260419T163353Z
LOCATION:Kurstraße\, 63667\, Nidda
STATUS:CONFIRMED
URL:https://kulvio.de/event/3036
END:VEVENT
END:VCALENDAR
