BEGIN:VCALENDAR
VERSION:2.0
PRODID:-//Kulvio Event Calendar//kulvio.de//
CALSCALE:GREGORIAN
METHOD:PUBLISH
BEGIN:VEVENT
SUMMARY:Stefan Waghubinger — Versunkene Sätze
DTSTART:20260627T173000Z
DTEND:20260627T193000Z
DTSTAMP:20260421T043149Z
UID:kulvio-event-3037@kulvio.de
CATEGORIES:Kabarett
CREATED:20260419T161629Z
DESCRIPTION:Der österreichische Kabarettist Stefan Waghubinger gastiert i
 m Alten Dorfladen in Nidda mit seinem Programm Versunkene Sätze. Er präs
 entiert die besten Geschichten aus 15 Jahren Bühnenarbeit und neue Katast
 rophen aus seinem künstlerischen Leben. Der Abend verspricht eine Mischun
 g aus intelligenter Gesellschaftskritik und charmanter Erzählweise.
GEO:50.393666;9.0155
LAST-MODIFIED:20260419T163353Z
LOCATION:Alter Dorfladen\, Untergasse 11\, 63667\, Nidda
STATUS:CONFIRMED
URL:https://kulvio.de/event/3037
END:VEVENT
END:VCALENDAR
