BEGIN:VCALENDAR
VERSION:2.0
PRODID:-//Kulvio Event Calendar//kulvio.de//
CALSCALE:GREGORIAN
METHOD:PUBLISH
BEGIN:VEVENT
SUMMARY:Bauernmarkt Bad Salzhausen — Juli
DTSTART:20260705T080000Z
DTEND:20260705T150000Z
DTSTAMP:20260421T042501Z
UID:kulvio-event-3038@kulvio.de
CATEGORIES:Wochenmarkt
CREATED:20260419T161629Z
DESCRIPTION:Der Bauernmarkt in Bad Salzhausen bietet auch im Juli regional
 e Produkte und saisonale Spezialitäten im Unteren Kurpark. Direktvermarkt
 er aus der Wetterau präsentieren ihr Angebot an frischen Erzeugnissen\, H
 andwerkswaren und kulinarischen Besonderheiten. Der Markt ist bei sommerli
 chem Wetter ein besonders beliebtes Ausflugsziel.
GEO:50.42204;8.99969
LAST-MODIFIED:20260419T163353Z
LOCATION:Kurstraße\, 63667\, Nidda
STATUS:CONFIRMED
URL:https://kulvio.de/event/3038
END:VEVENT
END:VCALENDAR
