BEGIN:VCALENDAR
VERSION:2.0
PRODID:-//Kulvio Event Calendar//kulvio.de//
CALSCALE:GREGORIAN
METHOD:PUBLISH
BEGIN:VEVENT
SUMMARY:Tina Teubner — Kabarett im Alten Dorfladen
DTSTART:20260717T173000Z
DTEND:20260717T193000Z
DTSTAMP:20260421T041937Z
UID:kulvio-event-3039@kulvio.de
CATEGORIES:Kabarett
CREATED:20260419T161629Z
DESCRIPTION:Die preisgekrönte Kabarettistin Tina Teubner gastiert im Alte
 n Dorfladen in Nidda. Die Trägerin des Deutschen Kleinkunstpreises verbin
 det scharfsinnigen Witz mit musikalischen Einlagen und nimmt gesellschaftl
 iche Themen mit Charme und Tiefgang aufs Korn. Die ausgebildete Musikthera
 peutin begeistert mit ihrer vielseitigen Bühnenkunst.
GEO:50.393666;9.0155
LAST-MODIFIED:20260419T163353Z
LOCATION:Alter Dorfladen\, Untergasse 11\, 63667\, Nidda
STATUS:CONFIRMED
URL:https://kulvio.de/event/3039
END:VEVENT
END:VCALENDAR
