BEGIN:VCALENDAR
VERSION:2.0
PRODID:-//Kulvio Event Calendar//kulvio.de//
CALSCALE:GREGORIAN
METHOD:PUBLISH
BEGIN:VEVENT
SUMMARY:Bauernmarkt Bad Salzhausen — August
DTSTART:20260802T080000Z
DTEND:20260802T150000Z
DTSTAMP:20260421T042119Z
UID:kulvio-event-3040@kulvio.de
CATEGORIES:Wochenmarkt
CREATED:20260419T161629Z
DESCRIPTION:Im August lädt der monatliche Bauernmarkt in Bad Salzhausen w
 ieder zum Einkaufen und Verweilen im Unteren Kurpark ein. Regionale Erzeug
 er bieten frische Produkte\, hausgemachte Spezialitäten und Handwerksware
 n aus der Wetterau an. Der Markt ist ein fester Termin im Veranstaltungska
 lender der Stadt Nidda.
GEO:50.42204;8.99969
LAST-MODIFIED:20260419T163353Z
LOCATION:Kurstraße\, 63667\, Nidda
STATUS:CONFIRMED
URL:https://kulvio.de/event/3040
END:VEVENT
END:VCALENDAR
