BEGIN:VCALENDAR
VERSION:2.0
PRODID:-//Kulvio Event Calendar//kulvio.de//
CALSCALE:GREGORIAN
METHOD:PUBLISH
BEGIN:VEVENT
SUMMARY:Herbstmarkt Nidda — Freitag
DTSTART:20260904T160000Z
DTEND:20260904T210000Z
DTSTAMP:20260421T034739Z
UID:kulvio-event-3041@kulvio.de
CATEGORIES:Saisonmarkt,Stadtfest
CREATED:20260419T161629Z
DESCRIPTION:Der Niddaer Herbstmarkt eröffnet am Freitag auf dem Festplatz
  am Bürgerhaus. Vier Tage lang bieten zahlreiche Stände kulinarische Ang
 ebote\, Marktwaren und Fahrgeschäfte für die ganze Familie. Der Herbstma
 rkt ist einer der größten Jahrmärkte in der Region und zieht Besucher a
 us dem gesamten Wetteraukreis an.
GEO:50.414415;9.00936
LAST-MODIFIED:20260419T163353Z
LOCATION:Festplatz Bürgerhaus\, Hinter dem Brauhaus\, 63667\, Nidda
STATUS:CONFIRMED
URL:https://kulvio.de/event/3041
END:VEVENT
END:VCALENDAR
